BEGIN:VCALENDAR
PRODID:-//eluceo/ical//2.0/EN
VERSION:2.0
CALSCALE:GREGORIAN
BEGIN:VEVENT
UID:b9ac66a2-6c09-4165-8ba3-ff25a0835f6f
DTSTAMP:20260424T035333Z
SUMMARY:Inscripciones - Encuentro Empresarial España - Senegal
DESCRIPTION:
URL:https://www.camara.es/encuentro-empresarial-espana-senegal-0
DTSTART:20260325T153000Z
DTEND:20260325T153000Z
LOCATION:Cámara de Comercio de España (C/Ribera del Loira 12\, Madrid)
END:VEVENT
END:VCALENDAR
