BEGIN:VCALENDAR
PRODID:-//eluceo/ical//2.0/EN
VERSION:2.0
CALSCALE:GREGORIAN
BEGIN:VEVENT
UID:863c97c2-d77e-4bd7-8d6e-09539fe8d541
DTSTAMP:20260425T200317Z
SUMMARY:Encuentro Empresarial España-Irak
DESCRIPTION:
URL:https://www.camara.es/encuentro-empresarial-espana-irak
DTSTART:20241128T150000Z
DTEND:20241128T150000Z
LOCATION:Cámara de Comercio de España (C/ Ribera del Loira 12\, Madrid)
END:VEVENT
END:VCALENDAR
