BEGIN:VCALENDAR
PRODID:-//eluceo/ical//2.0/EN
VERSION:2.0
CALSCALE:GREGORIAN
BEGIN:VEVENT
UID:08bb4357-6470-43c6-b5cd-de25b4deb96c
DTSTAMP:20260423T091610Z
SUMMARY:El Valor Sénior
DESCRIPTION:
URL:https://www.camara.es/el-valor-senior
DTSTART:20240410T090000Z
DTEND:20240410T090000Z
LOCATION:Cámara de Comercio de España (C/ Ribera del Loira 12\, Madrid)
END:VEVENT
END:VCALENDAR
