BEGIN:VCALENDAR
PRODID:-//eluceo/ical//2.0/EN
VERSION:2.0
CALSCALE:GREGORIAN
BEGIN:VEVENT
UID:3cdf3152-9232-45d5-bbb5-4dd00980faf9
DTSTAMP:20260425T232550Z
SUMMARY:Streaming - Cesce y Cámaras de Comercio\, aliados estratégicos de
 l emprendimiento femenino
DESCRIPTION:
URL:https://www.camara.es/streaming-cesce-y-camaras-de-comercio-aliados-est
 rategicos-del-emprendimiento-femenino
DTSTART:20231128T093000Z
DTEND:20231128T093000Z
END:VEVENT
END:VCALENDAR
