BEGIN:VCALENDAR
PRODID:-//eluceo/ical//2.0/EN
VERSION:2.0
CALSCALE:GREGORIAN
BEGIN:VEVENT
UID:f6d30b00-d119-4078-aa3e-fef8b46f8bdf
DTSTAMP:20260425T232924Z
SUMMARY:II Edición de los Premios Cámaras
DESCRIPTION:
URL:https://www.camara.es/entrega-premios-camaras
DTSTART:20230622T190000Z
DTEND:20230622T190000Z
LOCATION:Hotel The Westin Palace (Plaza de las Cortes\, 7\, Madrid)
END:VEVENT
END:VCALENDAR
