BEGIN:VCALENDAR
PRODID:-//eluceo/ical//2.0/EN
VERSION:2.0
CALSCALE:GREGORIAN
BEGIN:VEVENT
UID:f665e2e5-fe4c-4e36-82ba-94d13a145fb9
DTSTAMP:20260423T001912Z
SUMMARY:Hacia cadenas de suministro resilientes en el Indo-Pacífico: India
  como alternativa para la empresa española
DESCRIPTION:
URL:https://www.camara.es/hacia-cadenas-suministro-resilientes-indo-pacific
 o-india
DTSTART:20230525T093000Z
DTEND:20230525T093000Z
LOCATION:Cámara de Comercio de España (C/ Ribera del Loira\, 12 – Madri
 d)
END:VEVENT
END:VCALENDAR
