BEGIN:VCALENDAR
PRODID:-//eluceo/ical//2.0/EN
VERSION:2.0
CALSCALE:GREGORIAN
BEGIN:VEVENT
UID:90e15d26-3700-40f3-957d-72149b7aea62
DTSTAMP:20260423T154628Z
SUMMARY:Arab - Spain Business Meeting
DESCRIPTION:
URL:https://www.camara.es/arab-spain-business-meeting
DTSTART:20230518T073000Z
DTEND:20230518T073000Z
LOCATION:Spanish Chamber of Commerce (C/ Ribera del Loira – 12\, Madrid)
END:VEVENT
END:VCALENDAR
