BEGIN:VCALENDAR
PRODID:-//eluceo/ical//2.0/EN
VERSION:2.0
CALSCALE:GREGORIAN
BEGIN:VEVENT
UID:2e86eb5b-dd7d-458d-bd4d-2ed72df476b3
DTSTAMP:20260421T141509Z
SUMMARY:Arbitraje y competitividad empresarial
DESCRIPTION:
URL:https://www.camara.es/arbitraje-y-competitividad-empresarial
DTSTART:20201105T113000Z
DTEND:20201105T113000Z
LOCATION:Streaming
END:VEVENT
END:VCALENDAR
