BEGIN:VCALENDAR
PRODID:-//eluceo/ical//2.0/EN
VERSION:2.0
CALSCALE:GREGORIAN
BEGIN:VEVENT
UID:32402307-8ab2-4070-9346-fb192d8ad088
DTSTAMP:20260425T210239Z
SUMMARY:Premio Pyme del Año 2019 de Cuenca
DESCRIPTION:Acto de entrega del Premio
URL:https://www.camara.es/premio-pyme-del-ano-2019-de-cuenca
DTSTART:20191029T160000Z
DTEND:20191029T160000Z
LOCATION:Oficina Smart Red Banco de Santander (Cuenca)
END:VEVENT
END:VCALENDAR
