BEGIN:VCALENDAR
PRODID:-//eluceo/ical//2.0/EN
VERSION:2.0
CALSCALE:GREGORIAN
BEGIN:VEVENT
UID:86df084c-2f23-4ed6-8156-57ce111614ee
DTSTAMP:20260419T182315Z
SUMMARY:Cómo proteger tu negocio para hacer que sea más rentable. Cádiz.
DESCRIPTION:Durante la jornada conocerá de primera mano las mejores opcion
 es para la protección de la Propiedad Industrial\, Intelectual e Innovaci
 ón\, los conceptos clave acerca de marcas y nombres comerciales.\n
URL:https://www.camara.es/como-proteger-tu-negocio-para-hacer-que-sea-mas-r
 entable-cadiz
DTSTART:20191107T090000Z
DTEND:20191107T090000Z
LOCATION:Cámara de Comercio de Cádiz C/ Antonio López 4 - 11004 Cádiz
END:VEVENT
END:VCALENDAR
