BEGIN:VCALENDAR
PRODID:-//eluceo/ical//2.0/EN
VERSION:2.0
CALSCALE:GREGORIAN
BEGIN:VEVENT
UID:71314f52-7410-4b8f-b200-8ee4c07bcda6
DTSTAMP:20260425T232612Z
SUMMARY:Cómo proteger tu negocio para hacer que sea más rentable. Murcia.
DESCRIPTION:Durante la jornada conocerá de primera mano las mejores opcion
 es para la protección de la Propiedad Industrial\, Intelectual e Innovaci
 ón\, los conceptos clave acerca de marcas y nombres comerciales.\n
URL:https://www.camara.es/como-proteger-tu-negocio-para-hacer-que-sea-mas-r
 entable-murcia
DTSTART:20191030T090000Z
DTEND:20191030T090000Z
LOCATION:Cámara de Comercio de Murcia Plaza San Bartolomé\, 3\, 30004 Mur
 cia
END:VEVENT
END:VCALENDAR
