BEGIN:VCALENDAR
PRODID:-//eluceo/ical//2.0/EN
VERSION:2.0
CALSCALE:GREGORIAN
BEGIN:VEVENT
UID:574c55d4-c9aa-4fe2-87c0-e639adeffa34
DTSTAMP:20260423T150028Z
SUMMARY:Jornada: Los aspectos más significativos de la Propiedad Industria
 l para empresas y emprendedores (Ciudad Real) 
DESCRIPTION:Organizada por Cevipyme
URL:https://www.camara.es/jornada-los-aspectos-mas-significativos-de-la-pro
 piedad-industrial-para-empresas-ciudad-real
DTSTART:20171122T083000Z
DTEND:20171122T083000Z
LOCATION:C/ Lanza 2\, 13004 Ciudad Real
END:VEVENT
END:VCALENDAR
