BEGIN:VCALENDAR
PRODID:-//eluceo/ical//2.0/EN
VERSION:2.0
CALSCALE:GREGORIAN
BEGIN:VEVENT
UID:5d39e562-9282-4646-8c67-b51c27fe25f6
DTSTAMP:20260424T012350Z
SUMMARY:Encuentro empresarial España-China
DESCRIPTION:Inscripción antes del próximo 20 de junio
URL:https://www.camara.es/encuentro-empresarial-espana-china
DTSTART:20170622T073000Z
DTEND:20170622T073000Z
LOCATION:Cámara de Comercio de España (C/Ribera del Loira 12\, Madrid)
END:VEVENT
END:VCALENDAR
