BEGIN:VCALENDAR
PRODID:-//eluceo/ical//2.0/EN
VERSION:2.0
CALSCALE:GREGORIAN
BEGIN:VEVENT
UID:e76c853f-8f32-499f-b385-3c0f37cc7012
DTSTAMP:20260421T112326Z
SUMMARY:Jornada Mujeres y Emprendimiento
DESCRIPTION:La vicepresidenta del Gobierno en funciones\, Soraya Sáenz de 
 Santamaría\, y el presidente de la Cámara de España\, José Luis Bonet\
 , serán los encargados de inaugurar la Jornada.\n
URL:https://www.camara.es/jornada-mujeres-y-emprendimiento
DTSTART:20160504T070000Z
DTEND:20160504T110000Z
LOCATION:Cámara de Comercio de España (C/Ribera del Loira 12\, Madrid)
END:VEVENT
END:VCALENDAR
